View In:
ArcGIS JavaScript
ArcGIS Online Map Viewer
ArcGIS Earth
Service Description: Ortofoto 2019
Name: extern_kommunkarta/ortofoto_2019
Description: Ortofoto 2019
Single Fused Map Cache: false
Extent:
XMin: 112000.01228944771
YMin: 6163000.00565272
XMax: 142000.0123173874
YMax: 6192000.005679728
Spatial Reference: 3008
(3008)
LatestVCSWkid(0)
Initial Extent:
XMin: 112000.01228944771
YMin: 6163000.00565272
XMax: 142000.0123173874
YMax: 6192000.005679728
Spatial Reference: 3008
(3008)
LatestVCSWkid(0)
Full Extent:
XMin: 112000.01228944771
YMin: 6163000.00565272
XMax: 142000.0123173874
YMax: 6192000.005679728
Spatial Reference: 3008
(3008)
LatestVCSWkid(0)
Pixel Size X: 0.0800000000745058
Pixel Size Y: 0.0800000000745058
Band Count: 3
Pixel Type: U8
RasterFunction Infos: {"rasterFunctionInfos": [{
"name": "None",
"description": "",
"help": ""
}]}
Mensuration Capabilities: Basic
Inspection Capabilities:
Has Histograms: true
Has Colormap: false
Has Multi Dimensions : false
Rendering Rule:
Min Scale: 0
Max Scale: 0
Copyright Text:
Service Data Type: esriImageServiceDataTypeRGB
Min Values: 3, 3, 3
Max Values: 255, 255, 255
Mean Values: 112.9807071419085, 115.78464060237386, 114.51208577544226
Standard Deviation Values: 54.82383924614305, 51.03605326133723, 49.17006909579095
Object ID Field:
Fields:
None
Default Mosaic Method: Center
Allowed Mosaic Methods:
SortField:
SortValue: null
Mosaic Operator: First
Default Compression Quality: 75
Default Resampling Method: Bilinear
Max Record Count: null
Max Image Height: 4100
Max Image Width: 15000
Max Download Image Count: null
Max Mosaic Image Count: null
Allow Raster Function: true
Allow Copy: true
Allow Analysis: true
Allow Compute TiePoints: false
Supports Statistics: false
Supports Advanced Queries: false
Use StandardizedQueries: true
Raster Type Infos:
Name: Raster Dataset
Description: Supports all ArcGIS Raster Datasets
Help:
Has Raster Attribute Table: false
Edit Fields Info: null
Ownership Based AccessControl For Rasters: null
Child Resources:
Info
Histograms
Statistics
Key Properties
Legend
Raster Function Infos
Supported Operations:
Export Image
Identify
Measure
Compute Histograms
Compute Statistics Histograms
Get Samples
Compute Class Statistics
Query Boundary
Compute Pixel Location
Compute Angles
Validate
Project