{
 "currentVersion": 11.3,
 "serviceDescription": "Ortofoto 2019",
 "name": "extern_kommunkarta/ortofoto_2019",
 "description": "Ortofoto 2019",
 "extent": {
  "xmin": 112000.01228944771,
  "ymin": 6163000.00565272,
  "xmax": 142000.0123173874,
  "ymax": 6192000.005679728,
  "spatialReference": {
   "wkid": 3008,
   "latestWkid": 3008
  }
 },
 "initialExtent": {
  "xmin": 112000.01228944771,
  "ymin": 6163000.00565272,
  "xmax": 142000.0123173874,
  "ymax": 6192000.005679728,
  "spatialReference": {
   "wkid": 3008,
   "latestWkid": 3008
  }
 },
 "fullExtent": {
  "xmin": 112000.01228944771,
  "ymin": 6163000.00565272,
  "xmax": 142000.0123173874,
  "ymax": 6192000.005679728,
  "spatialReference": {
   "wkid": 3008,
   "latestWkid": 3008
  }
 },
 "sortableFields": "",
 "bandCount": 3,
 "pixelType": "U8",
 "minValues": [
  3,
  3,
  3
 ],
 "maxValues": [
  255,
  255,
  255
 ],
 "meanValues": [
  112.9807071419085,
  115.78464060237386,
  114.51208577544226
 ],
 "stdvValues": [
  54.82383924614305,
  51.03605326133723,
  49.17006909579095
 ],
 "hasMultidimensions": false,
 "pixelSizeX": 0.0800000000745058,
 "pixelSizeY": 0.0800000000745058,
 "meanPixelSize": 0.0800000000745058,
 "datasetFormat": "SDR",
 "uncompressedSize": 407812500000,
 "blockWidth": 128,
 "blockHeight": 128,
 "compressionType": "LZ77",
 "bandNames": [
  "Band_1",
  "Band_2",
  "Band_3"
 ],
 "allowCopy": true,
 "allowAnalysis": true,
 "itemAccess": false,
 "inspectionCapabilities": "",
 "minPixelSize": 0,
 "maxPixelSize": 0,
 "copyrightText": "",
 "serviceDataType": "esriImageServiceDataTypeRGB",
 "serviceSourceType": "esriImageServiceSourceTypeDataset",
 "objectIdField": "",
 "fields": [],
 "capabilities": "Image,Metadata,Mensuration",
 "defaultMosaicMethod": "Center",
 "allowedMosaicMethods": "",
 "sortField": "",
 "sortValue": null,
 "sortAscending": true,
 "mosaicOperator": "First",
 "defaultCompressionQuality": 75,
 "defaultResamplingMethod": "Bilinear",
 "maxImageHeight": 4100,
 "maxImageWidth": 15000,
 "allowRasterFunction": true,
 "rasterFunctionInfos": [
  {
   "name": "None",
   "description": "",
   "help": ""
  }
 ],
 "rasterTypeInfos": [
  {
   "name": "Raster Dataset",
   "description": "Supports all ArcGIS Raster Datasets",
   "help": ""
  }
 ],
 "mensurationCapabilities": "Basic",
 "hasHistograms": true,
 "hasColormap": false,
 "hasRasterAttributeTable": false,
 "minScale": 0,
 "maxScale": 0,
 "exportTilesAllowed": false,
 "supportsStatistics": false,
 "supportsAdvancedQueries": false,
 "editFieldsInfo": null,
 "ownershipBasedAccessControlForRasters": null,
 "allowComputeTiePoints": false,
 "useStandardizedQueries": true,
 "advancedQueryCapabilities": {
  "useStandardizedQueries": true,
  "supportsStatistics": false,
  "supportsOrderBy": false,
  "supportsDistinct": false,
  "supportsPagination": false
 },
 "spatialReference": {
  "wkid": 3008,
  "latestWkid": 3008
 }
}
