View In:
ArcGIS JavaScript
ArcGIS Online Map Viewer
ArcGIS Earth
Service Description: orto_2018
Name: orto_2018
Description:
Single Fused Map Cache: false
Extent:
XMin: 115000.02708799951
YMin: 6167499.979228035
XMax: 127500.02708799951
YMax: 6182499.979228035
Spatial Reference: 3008
(3008)
LatestVCSWkid(0)
Initial Extent:
XMin: 115000.02708799951
YMin: 6167499.979228035
XMax: 127500.02708799951
YMax: 6182499.979228035
Spatial Reference: 3008
(3008)
LatestVCSWkid(0)
Full Extent:
XMin: 115000.02708799951
YMin: 6167499.979228035
XMax: 127500.02708799951
YMax: 6182499.979228035
Spatial Reference: 3008
(3008)
LatestVCSWkid(0)
Pixel Size X: 0.25
Pixel Size Y: 0.25
Band Count: 3
Pixel Type: U8
RasterFunction Infos: {"rasterFunctionInfos": [{
"name": "None",
"description": "",
"help": ""
}]}
Mensuration Capabilities: Basic
Inspection Capabilities:
Has Histograms: true
Has Colormap: false
Has Multi Dimensions : false
Rendering Rule:
Min Scale: 0
Max Scale: 0
Copyright Text:
Service Data Type: esriImageServiceDataTypeRGB
Min Values: 1, 1, 1
Max Values: 255, 255, 255
Mean Values: 84.81490787098835, 87.36960116879975, 87.2884014749319
Standard Deviation Values: 47.809588612874485, 46.744828402469544, 44.21214203906385
Object ID Field:
Fields:
None
Default Mosaic Method: Center
Allowed Mosaic Methods:
SortField:
SortValue: null
Mosaic Operator: First
Default Compression Quality: 75
Default Resampling Method: Bilinear
Max Record Count: null
Max Image Height: 4100
Max Image Width: 15000
Max Download Image Count: null
Max Mosaic Image Count: null
Allow Raster Function: true
Allow Copy: true
Allow Analysis: true
Allow Compute TiePoints: false
Supports Statistics: false
Supports Advanced Queries: false
Use StandardizedQueries: true
Raster Type Infos:
Name: Raster Dataset
Description: Supports all ArcGIS Raster Datasets
Help:
Has Raster Attribute Table: false
Edit Fields Info: null
Ownership Based AccessControl For Rasters: null
Child Resources:
Info
Histograms
Statistics
Key Properties
Legend
Raster Function Infos
Supported Operations:
Export Image
Identify
Measure
Compute Histograms
Compute Statistics Histograms
Get Samples
Compute Class Statistics
Query Boundary
Compute Pixel Location
Compute Angles
Validate
Project