View In:
ArcGIS JavaScript
ArcGIS Online Map Viewer
ArcGIS Earth
Service Description: Ortofoto 2008 Lomma
Name: extern_kommunkarta/orto_2008
Description: Ortofoto 2008 Lomma
Single Fused Map Cache: false
Extent:
XMin: -0.06781486048625303
YMin: -0.03351174282443026
XMax: 128999.93230528012
YMax: 6181999.943458512
Spatial Reference: 3008
(3008)
LatestVCSWkid(0)
Initial Extent:
XMin: -0.06781486048625303
YMin: -0.03351174282443026
XMax: 128999.93230528012
YMax: 6181999.943458512
Spatial Reference: 3008
(3008)
LatestVCSWkid(0)
Full Extent:
XMin: -0.06781486048625303
YMin: -0.03351174282443026
XMax: 128999.93230528012
YMax: 6181999.943458512
Spatial Reference: 3008
(3008)
LatestVCSWkid(0)
Pixel Size X: 0.20000000018626451
Pixel Size Y: 0.19999999925494194
Band Count: 3
Pixel Type: U8
RasterFunction Infos: {"rasterFunctionInfos": [{
"name": "None",
"description": "",
"help": ""
}]}
Mensuration Capabilities: Basic
Inspection Capabilities:
Has Histograms: true
Has Colormap: false
Has Multi Dimensions : false
Rendering Rule:
Min Scale: 0
Max Scale: 0
Copyright Text:
Service Data Type: esriImageServiceDataTypeRGB
Min Values: 0, 0, 0
Max Values: 255, 255, 255
Mean Values: 114.15588772760736, 113.91553702527608, 106.91075602748467
Standard Deviation Values: 41.64531619380486, 38.997381678936144, 39.75253366525377
Object ID Field:
Fields:
None
Default Mosaic Method: Center
Allowed Mosaic Methods:
SortField:
SortValue: null
Mosaic Operator: First
Default Compression Quality: 75
Default Resampling Method: Bilinear
Max Record Count: null
Max Image Height: 4100
Max Image Width: 15000
Max Download Image Count: null
Max Mosaic Image Count: null
Allow Raster Function: true
Allow Copy: true
Allow Analysis: true
Allow Compute TiePoints: false
Supports Statistics: false
Supports Advanced Queries: false
Use StandardizedQueries: true
Raster Type Infos:
Name: Raster Dataset
Description: Supports all ArcGIS Raster Datasets
Help:
Has Raster Attribute Table: false
Edit Fields Info: null
Ownership Based AccessControl For Rasters: null
Child Resources:
Info
Histograms
Statistics
Key Properties
Legend
Raster Function Infos
Supported Operations:
Export Image
Identify
Measure
Compute Histograms
Compute Statistics Histograms
Get Samples
Compute Class Statistics
Query Boundary
Compute Pixel Location
Compute Angles
Validate
Project