View In:
ArcGIS JavaScript
ArcGIS Online Map Viewer
ArcGIS Earth
Service Description: Ortofoto 2004 Lomma
Name: extern_kommunkarta/orto_2004
Description: Ortofoto 2004 Lomma
Single Fused Map Cache: false
Extent:
XMin: 115000.02708799951
YMin: 6165000.229228035
XMax: 130000.02708799951
YMax: 6185000.229228035
Spatial Reference: 3008
(3008)
LatestVCSWkid(0)
Initial Extent:
XMin: 115000.02708799951
YMin: 6165000.229228035
XMax: 130000.02708799951
YMax: 6185000.229228035
Spatial Reference: 3008
(3008)
LatestVCSWkid(0)
Full Extent:
XMin: 115000.02708799951
YMin: 6165000.229228035
XMax: 130000.02708799951
YMax: 6185000.229228035
Spatial Reference: 3008
(3008)
LatestVCSWkid(0)
Pixel Size X: 0.5
Pixel Size Y: 0.5
Band Count: 3
Pixel Type: U8
RasterFunction Infos: {"rasterFunctionInfos": [{
"name": "None",
"description": "",
"help": ""
}]}
Mensuration Capabilities: Basic
Inspection Capabilities:
Has Histograms: true
Has Colormap: false
Has Multi Dimensions : false
Rendering Rule:
Min Scale: 0
Max Scale: 0
Copyright Text: Lantmäteriet
Service Data Type: esriImageServiceDataTypeRGB
Min Values: 1, 1, 1
Max Values: 255, 255, 255
Mean Values: 106.94992274317073, 115.80133916061804, 115.90848862303032
Standard Deviation Values: 63.54327463047514, 61.09042143003069, 57.29278493401012
Object ID Field:
Fields:
None
Default Mosaic Method: Center
Allowed Mosaic Methods:
SortField:
SortValue: null
Mosaic Operator: First
Default Compression Quality: 75
Default Resampling Method: Bilinear
Max Record Count: null
Max Image Height: 4100
Max Image Width: 15000
Max Download Image Count: null
Max Mosaic Image Count: null
Allow Raster Function: true
Allow Copy: true
Allow Analysis: true
Allow Compute TiePoints: false
Supports Statistics: false
Supports Advanced Queries: false
Use StandardizedQueries: true
Raster Type Infos:
Name: Raster Dataset
Description: Supports all ArcGIS Raster Datasets
Help:
Has Raster Attribute Table: false
Edit Fields Info: null
Ownership Based AccessControl For Rasters: null
Child Resources:
Info
Histograms
Statistics
Key Properties
Legend
Raster Function Infos
Supported Operations:
Export Image
Identify
Measure
Compute Histograms
Compute Statistics Histograms
Get Samples
Compute Class Statistics
Query Boundary
Compute Pixel Location
Compute Angles
Validate
Project