View In:
ArcGIS JavaScript
ArcGIS Online Map Viewer
ArcGIS Earth
Service Description: Ortofoto 1962 Lomma
Name: extern_kommunkarta/orto_1962
Description: Ortofoto 1962 Lomma
Single Fused Map Cache: false
Extent:
XMin: 114026.26143082388
YMin: 6160678.140750461
XMax: 134567.01589138425
YMax: 6186110.527510483
Spatial Reference: 3008
(3008)
LatestVCSWkid(0)
Initial Extent:
XMin: 114026.26143082388
YMin: 6160678.140750461
XMax: 134567.01589138425
YMax: 6186110.527510483
Spatial Reference: 3008
(3008)
LatestVCSWkid(0)
Full Extent:
XMin: 114026.26143082388
YMin: 6160678.140750461
XMax: 134567.01589138425
YMax: 6186110.527510483
Spatial Reference: 3008
(3008)
LatestVCSWkid(0)
Pixel Size X: 0.5001157591682986
Pixel Size Y: 0.5001157603292148
Band Count: 1
Pixel Type: U8
RasterFunction Infos: {"rasterFunctionInfos": [{
"name": "None",
"description": "",
"help": ""
}]}
Mensuration Capabilities: Basic
Inspection Capabilities:
Has Histograms: true
Has Colormap: false
Has Multi Dimensions : false
Rendering Rule:
Min Scale: 0
Max Scale: 0
Copyright Text: Lantmäteriet
Service Data Type: esriImageServiceDataTypeGeneric
Min Values: 0
Max Values: 255
Mean Values: 71.26274890655637
Standard Deviation Values: 61.276826531737356
Object ID Field:
Fields:
None
Default Mosaic Method: Center
Allowed Mosaic Methods:
SortField:
SortValue: null
Mosaic Operator: First
Default Compression Quality: 75
Default Resampling Method: Bilinear
Max Record Count: null
Max Image Height: 4100
Max Image Width: 15000
Max Download Image Count: null
Max Mosaic Image Count: null
Allow Raster Function: true
Allow Copy: true
Allow Analysis: true
Allow Compute TiePoints: false
Supports Statistics: false
Supports Advanced Queries: false
Use StandardizedQueries: true
Raster Type Infos:
Name: Raster Dataset
Description: Supports all ArcGIS Raster Datasets
Help:
Has Raster Attribute Table: false
Edit Fields Info: null
Ownership Based AccessControl For Rasters: null
Child Resources:
Info
Histograms
Statistics
Key Properties
Legend
Raster Function Infos
Supported Operations:
Export Image
Identify
Measure
Compute Histograms
Compute Statistics Histograms
Get Samples
Compute Class Statistics
Query Boundary
Compute Pixel Location
Compute Angles
Validate
Project