View In:
ArcGIS JavaScript
ArcGIS Online Map Viewer
ArcGIS Earth
Service Description: Ortofoto Lomma hamn 1973
Name: extern_kommunkarta/Lomma_hamnen_1973
Description: Ortofoto Lomma hamn 1973
Single Fused Map Cache: false
Extent:
XMin: 121640.196
YMin: 6172355.206693
XMax: 123381.90669599999
YMax: 6174090.32
Spatial Reference: 3008
(3008)
LatestVCSWkid(0)
Initial Extent:
XMin: 121640.196
YMin: 6172355.206693
XMax: 123381.90669599999
YMax: 6174090.32
Spatial Reference: 3008
(3008)
LatestVCSWkid(0)
Full Extent:
XMin: 121640.196
YMin: 6172355.206693
XMax: 123381.90669599999
YMax: 6174090.32
Spatial Reference: 3008
(3008)
LatestVCSWkid(0)
Pixel Size X: 0.34723099999999896
Pixel Size Y: 0.3472310000000276
Band Count: 1
Pixel Type: U8
RasterFunction Infos: {"rasterFunctionInfos": [{
"name": "None",
"description": "",
"help": ""
}]}
Mensuration Capabilities: Basic
Inspection Capabilities:
Has Histograms: true
Has Colormap: false
Has Multi Dimensions : false
Rendering Rule:
Min Scale: 0
Max Scale: 0
Copyright Text:
Service Data Type: esriImageServiceDataTypeGeneric
Min Values: 0
Max Values: 255
Mean Values: 124.82261529964231
Standard Deviation Values: 58.404775639873286
Object ID Field:
Fields:
None
Default Mosaic Method: Center
Allowed Mosaic Methods:
SortField:
SortValue: null
Mosaic Operator: First
Default Compression Quality: 75
Default Resampling Method: Bilinear
Max Record Count: null
Max Image Height: 4100
Max Image Width: 15000
Max Download Image Count: null
Max Mosaic Image Count: null
Allow Raster Function: true
Allow Copy: true
Allow Analysis: true
Allow Compute TiePoints: false
Supports Statistics: false
Supports Advanced Queries: false
Use StandardizedQueries: true
Raster Type Infos:
Name: Raster Dataset
Description: Supports all ArcGIS Raster Datasets
Help:
Has Raster Attribute Table: false
Edit Fields Info: null
Ownership Based AccessControl For Rasters: null
Child Resources:
Info
Histograms
Statistics
Key Properties
Legend
Raster Function Infos
Supported Operations:
Export Image
Identify
Measure
Compute Histograms
Compute Statistics Histograms
Get Samples
Compute Class Statistics
Query Boundary
Compute Pixel Location
Compute Angles
Validate
Project