View In:
ArcGIS JavaScript
ArcGIS Online Map Viewer
ArcGIS Earth
Service Description: ortofoto Lomma hamn 1965
Name: extern_kommunkarta/Lomma_hamn_1965
Description: ortofoto Lomma hamn 1965
Single Fused Map Cache: false
Extent:
XMin: 120765.497
YMin: 6171338.951474
XMax: 124761.54238700001
YMax: 6175594.76
Spatial Reference: 3008
(3008)
LatestVCSWkid(0)
Initial Extent:
XMin: 120765.497
YMin: 6171338.951474
XMax: 124761.54238700001
YMax: 6175594.76
Spatial Reference: 3008
(3008)
LatestVCSWkid(0)
Full Extent:
XMin: 120765.497
YMin: 6171338.951474
XMax: 124761.54238700001
YMax: 6175594.76
Spatial Reference: 3008
(3008)
LatestVCSWkid(0)
Pixel Size X: 1.345923000000002
Pixel Size Y: 1.3459230000000024
Band Count: 1
Pixel Type: U8
RasterFunction Infos: {"rasterFunctionInfos": [{
"name": "None",
"description": "",
"help": ""
}]}
Mensuration Capabilities: Basic
Inspection Capabilities:
Has Histograms: true
Has Colormap: false
Has Multi Dimensions : false
Rendering Rule:
Min Scale: 0
Max Scale: 0
Copyright Text:
Service Data Type: esriImageServiceDataTypeGeneric
Min Values: 40
Max Values: 255
Mean Values: 141.41298435083678
Standard Deviation Values: 54.010249860432886
Object ID Field:
Fields:
None
Default Mosaic Method: Center
Allowed Mosaic Methods:
SortField:
SortValue: null
Mosaic Operator: First
Default Compression Quality: 75
Default Resampling Method: Bilinear
Max Record Count: null
Max Image Height: 4100
Max Image Width: 15000
Max Download Image Count: null
Max Mosaic Image Count: null
Allow Raster Function: true
Allow Copy: true
Allow Analysis: true
Allow Compute TiePoints: false
Supports Statistics: false
Supports Advanced Queries: false
Use StandardizedQueries: true
Raster Type Infos:
Name: Raster Dataset
Description: Supports all ArcGIS Raster Datasets
Help:
Has Raster Attribute Table: false
Edit Fields Info: null
Ownership Based AccessControl For Rasters: null
Child Resources:
Info
Histograms
Statistics
Key Properties
Legend
Raster Function Infos
Supported Operations:
Export Image
Identify
Measure
Compute Histograms
Compute Statistics Histograms
Get Samples
Compute Class Statistics
Query Boundary
Compute Pixel Location
Compute Angles
Validate
Project