View In:
ArcGIS JavaScript
ArcGIS Online Map Viewer
ArcGIS Earth
Service Description: Ortofoto Lomma hamn 1955
Name: extern_kommunkarta/Lomma_hamn_1955
Description: Ortofoto Lomma hamn 1955
Single Fused Map Cache: false
Extent:
XMin: 120317.122
YMin: 6172166.437981
XMax: 123671.893431
YMax: 6175490.58
Spatial Reference: 3008
(3008)
LatestVCSWkid(0)
Initial Extent:
XMin: 120317.122
YMin: 6172166.437981
XMax: 123671.893431
YMax: 6175490.58
Spatial Reference: 3008
(3008)
LatestVCSWkid(0)
Full Extent:
XMin: 120317.122
YMin: 6172166.437981
XMax: 123671.893431
YMax: 6175490.58
Spatial Reference: 3008
(3008)
LatestVCSWkid(0)
Pixel Size X: 0.8508170000000003
Pixel Size Y: 0.8508169999999755
Band Count: 1
Pixel Type: U8
RasterFunction Infos: {"rasterFunctionInfos": [{
"name": "None",
"description": "",
"help": ""
}]}
Mensuration Capabilities: Basic
Inspection Capabilities:
Has Histograms: true
Has Colormap: false
Has Multi Dimensions : false
Rendering Rule:
Min Scale: 0
Max Scale: 0
Copyright Text:
Service Data Type: esriImageServiceDataTypeGeneric
Min Values: 41
Max Values: 255
Mean Values: 141.22361504004368
Standard Deviation Values: 55.502852886643055
Object ID Field:
Fields:
None
Default Mosaic Method: Center
Allowed Mosaic Methods:
SortField:
SortValue: null
Mosaic Operator: First
Default Compression Quality: 75
Default Resampling Method: Bilinear
Max Record Count: null
Max Image Height: 4100
Max Image Width: 15000
Max Download Image Count: null
Max Mosaic Image Count: null
Allow Raster Function: true
Allow Copy: true
Allow Analysis: true
Allow Compute TiePoints: false
Supports Statistics: false
Supports Advanced Queries: false
Use StandardizedQueries: true
Raster Type Infos:
Name: Raster Dataset
Description: Supports all ArcGIS Raster Datasets
Help:
Has Raster Attribute Table: false
Edit Fields Info: null
Ownership Based AccessControl For Rasters: null
Child Resources:
Info
Histograms
Statistics
Key Properties
Legend
Raster Function Infos
Supported Operations:
Export Image
Identify
Measure
Compute Histograms
Compute Statistics Histograms
Get Samples
Compute Class Statistics
Query Boundary
Compute Pixel Location
Compute Angles
Validate
Project