View In:
ArcGIS JavaScript
ArcGIS Online Map Viewer
ArcGIS Earth
Service Description: Ortofoto Lomma hamn 1950
Name: extern_kommunkarta/Lomma_hamn_1950
Description: Ortofoto Lomma hamn 1950
Single Fused Map Cache: false
Extent:
XMin: 121172.332
YMin: 6171993.99632
XMax: 123970.6264
YMax: 6174723.04
Spatial Reference: 3008
(3008)
LatestVCSWkid(0)
Initial Extent:
XMin: 121172.332
YMin: 6171993.99632
XMax: 123970.6264
YMax: 6174723.04
Spatial Reference: 3008
(3008)
LatestVCSWkid(0)
Full Extent:
XMin: 121172.332
YMin: 6171993.99632
XMax: 123970.6264
YMax: 6174723.04
Spatial Reference: 3008
(3008)
LatestVCSWkid(0)
Pixel Size X: 0.7066399999999997
Pixel Size Y: 0.7066400000000308
Band Count: 1
Pixel Type: U8
RasterFunction Infos: {"rasterFunctionInfos": [{
"name": "None",
"description": "",
"help": ""
}]}
Mensuration Capabilities: Basic
Inspection Capabilities:
Has Histograms: true
Has Colormap: false
Has Multi Dimensions : false
Rendering Rule:
Min Scale: 0
Max Scale: 0
Copyright Text:
Service Data Type: esriImageServiceDataTypeGeneric
Min Values: 0
Max Values: 255
Mean Values: 136.8615744446014
Standard Deviation Values: 58.1533479948051
Object ID Field:
Fields:
None
Default Mosaic Method: Center
Allowed Mosaic Methods:
SortField:
SortValue: null
Mosaic Operator: First
Default Compression Quality: 75
Default Resampling Method: Bilinear
Max Record Count: null
Max Image Height: 4100
Max Image Width: 15000
Max Download Image Count: null
Max Mosaic Image Count: null
Allow Raster Function: true
Allow Copy: true
Allow Analysis: true
Allow Compute TiePoints: false
Supports Statistics: false
Supports Advanced Queries: false
Use StandardizedQueries: true
Raster Type Infos:
Name: Raster Dataset
Description: Supports all ArcGIS Raster Datasets
Help:
Has Raster Attribute Table: false
Edit Fields Info: null
Ownership Based AccessControl For Rasters: null
Child Resources:
Info
Histograms
Statistics
Key Properties
Legend
Raster Function Infos
Supported Operations:
Export Image
Identify
Measure
Compute Histograms
Compute Statistics Histograms
Get Samples
Compute Class Statistics
Query Boundary
Compute Pixel Location
Compute Angles
Validate
Project