<?xml version="1.0" encoding="UTF-8" standalone="no"?>
<metadata xml:lang="sv">
<Esri>
<CreaDate>20210119</CreaDate>
<CreaTime>14085800</CreaTime>
<ArcGISFormat>1.0</ArcGISFormat>
<SyncOnce>FALSE</SyncOnce>
<DataProperties>
<lineage>
<Process Date="20210119" Name="" Time="140858" ToolSource="c:\program files (x86)\arcgis\desktop10.7\ArcToolbox\Toolboxes\Data Management Tools.tbx\CreateRasterDataset" export="">CreateRasterDataset "Database Connections\sde_orto @ gng.sde" orto_2018 0,25 8_BIT_UNSIGNED PROJCS['SWEREF99_13_30',GEOGCS['GCS_SWEREF99',DATUM['D_SWEREF99',SPHEROID['GRS_1980',6378137.0,298.257222101]],PRIMEM['Greenwich',0.0],UNIT['Degree',0.0174532925199433]],PROJECTION['Transverse_Mercator'],PARAMETER['False_Easting',150000.0],PARAMETER['False_Northing',0.0],PARAMETER['Central_Meridian',13.5],PARAMETER['Scale_Factor',1.0],PARAMETER['Latitude_Of_Origin',0.0],UNIT['Meter',1.0]] 3 # "PYRAMIDS -1 NEAREST DEFAULT 75 NO_SKIP" "128 128" LZ77 "-5473012,472912 10001964,729228"</Process>
<Process Date="20210119" Name="" Time="141715" ToolSource="c:\program files (x86)\arcgis\desktop10.7\ArcToolbox\Toolboxes\Data Management Tools.tbx\Mosaic" export="">Mosaic C:\Users\William.Walker\Desktop\Orto2018\Orto2018\1330_616_11_7575_2018.tif;C:\Users\William.Walker\Desktop\Orto2018\Orto2018\1330_616_12_7500_2018.tif;C:\Users\William.Walker\Desktop\Orto2018\Orto2018\1330_616_12_7525_2018.tif;C:\Users\William.Walker\Desktop\Orto2018\Orto2018\1330_617_11_0050_2018.tif;C:\Users\William.Walker\Desktop\Orto2018\Orto2018\1330_617_11_0075_2018.tif;C:\Users\William.Walker\Desktop\Orto2018\Orto2018\1330_617_11_2575_2018.tif;C:\Users\William.Walker\Desktop\Orto2018\Orto2018\1330_617_11_5050_2018.tif;C:\Users\William.Walker\Desktop\Orto2018\Orto2018\1330_617_11_5075_2018.tif "Database Connections\sde_orto @ gng.sde\sde_orto.GNG.orto_2018" LAST FIRST # # NONE 0 NONE</Process>
<Process Date="20210119" Name="" Time="145537" ToolSource="c:\program files (x86)\arcgis\desktop10.7\ArcToolbox\Toolboxes\Data Management Tools.tbx\Mosaic" export="">Mosaic C:\Users\William.Walker\Desktop\Orto2018\Orto2018\1330_617_11_7575_2018.tif;C:\Users\William.Walker\Desktop\Orto2018\Orto2018\1330_617_12_0000_2018.tif;C:\Users\William.Walker\Desktop\Orto2018\Orto2018\1330_617_12_0025_2018.tif;C:\Users\William.Walker\Desktop\Orto2018\Orto2018\1330_617_12_0050_2018.tif;C:\Users\William.Walker\Desktop\Orto2018\Orto2018\1330_617_12_2500_2018.tif;C:\Users\William.Walker\Desktop\Orto2018\Orto2018\1330_617_12_2525_2018.tif;C:\Users\William.Walker\Desktop\Orto2018\Orto2018\1330_617_12_2550_2018.tif;C:\Users\William.Walker\Desktop\Orto2018\Orto2018\1330_617_12_5000_2018.tif;C:\Users\William.Walker\Desktop\Orto2018\Orto2018\1330_617_12_5025_2018.tif "Database Connections\sde_orto @ gng.sde\sde_orto.GNG.orto_2018" LAST FIRST # # NONE 0 NONE</Process>
<Process Date="20210119" Name="" Time="151719" ToolSource="c:\program files (x86)\arcgis\desktop10.7\ArcToolbox\Toolboxes\Data Management Tools.tbx\Mosaic" export="">Mosaic C:\Users\William.Walker\Desktop\Orto2018\Orto2018\1330_617_12_5050_2018.tif;C:\Users\William.Walker\Desktop\Orto2018\Orto2018\1330_617_12_7500_2018.tif;C:\Users\William.Walker\Desktop\Orto2018\Orto2018\1330_617_12_7525_2018.tif;C:\Users\William.Walker\Desktop\Orto2018\Orto2018\1330_617_12_7550_2018.tif;C:\Users\William.Walker\Desktop\Orto2018\Orto2018\1330_618_11_0075_2018.tif;C:\Users\William.Walker\Desktop\Orto2018\Orto2018\1330_618_12_0000_2018.tif;C:\Users\William.Walker\Desktop\Orto2018\Orto2018\1330_618_12_0025_2018.tif;C:\Users\William.Walker\Desktop\Orto2018\Orto2018\1330_618_12_0050_2018.tif "Database Connections\sde_orto @ gng.sde\sde_orto.GNG.orto_2018" LAST FIRST # # NONE 0 NONE</Process>
<Process Date="20210119" Name="" Time="160430" ToolSource="c:\program files (x86)\arcgis\desktop10.7\ArcToolbox\Toolboxes\Data Management Tools.tbx\BuildPyramids" export="">BuildPyramids "Database Connections\sde_orto @ gng.sde\sde_orto.GNG.orto_2018" -1 NONE NEAREST DEFAULT 75 OVERWRITE</Process>
<Process Date="20210119" Name="" Time="160939" ToolSource="c:\program files (x86)\arcgis\desktop10.7\ArcToolbox\Toolboxes\Data Management Tools.tbx\CalculateStatistics" export="">CalculateStatistics "Database Connections\sde_orto @ gng.sde\sde_orto.GNG.orto_2018" 1 1 # OVERWRITE "Feature Set"</Process>
<Process Date="20210119" Name="" Time="162405" ToolSource="c:\program files (x86)\arcgis\desktop10.7\ArcToolbox\Toolboxes\Data Management Tools.tbx\CalculateStatistics" export="">CalculateStatistics "Database Connections\sde_orto @ gng.sde\sde_orto.GNG.orto_2018" 1 1 # OVERWRITE "Feature Set"</Process>
</lineage>
<itemProps>
<itemName Sync="TRUE">sde_orto.GNG.orto_2018</itemName>
<imsContentType Sync="TRUE">002</imsContentType>
<nativeExtBox>
<westBL Sync="TRUE">115000.027088</westBL>
<eastBL Sync="TRUE">127500.027088</eastBL>
<southBL Sync="TRUE">6167499.979228</southBL>
<northBL Sync="TRUE">6182499.979228</northBL>
<exTypeCode Sync="TRUE">1</exTypeCode>
</nativeExtBox>
<itemLocation>
<linkage Sync="TRUE">Server=SRVMSGEO003; Service=sde:sqlserver:SRVMSGEO003; Database=sde_orto; User=gng; Version=sde.DEFAULT</linkage>
<protocol Sync="TRUE">ArcSDE Connection</protocol>
</itemLocation>
</itemProps>
<coordRef>
<type Sync="TRUE">Projected</type>
<geogcsn Sync="TRUE">GCS_SWEREF99</geogcsn>
<csUnits Sync="TRUE">Linear Unit: Meter (1.000000)</csUnits>
<projcsn Sync="TRUE">SWEREF99_13_30</projcsn>
<peXml Sync="TRUE">&lt;ProjectedCoordinateSystem xsi:type='typens:ProjectedCoordinateSystem' xmlns:xsi='http://www.w3.org/2001/XMLSchema-instance' xmlns:xs='http://www.w3.org/2001/XMLSchema' xmlns:typens='http://www.esri.com/schemas/ArcGIS/10.7'&gt;&lt;WKT&gt;PROJCS[&amp;quot;SWEREF99_13_30&amp;quot;,GEOGCS[&amp;quot;GCS_SWEREF99&amp;quot;,DATUM[&amp;quot;D_SWEREF99&amp;quot;,SPHEROID[&amp;quot;GRS_1980&amp;quot;,6378137.0,298.257222101]],PRIMEM[&amp;quot;Greenwich&amp;quot;,0.0],UNIT[&amp;quot;Degree&amp;quot;,0.0174532925199433]],PROJECTION[&amp;quot;Transverse_Mercator&amp;quot;],PARAMETER[&amp;quot;False_Easting&amp;quot;,150000.0],PARAMETER[&amp;quot;False_Northing&amp;quot;,0.0],PARAMETER[&amp;quot;Central_Meridian&amp;quot;,13.5],PARAMETER[&amp;quot;Scale_Factor&amp;quot;,1.0],PARAMETER[&amp;quot;Latitude_Of_Origin&amp;quot;,0.0],UNIT[&amp;quot;Meter&amp;quot;,1.0],AUTHORITY[&amp;quot;EPSG&amp;quot;,3008]]&lt;/WKT&gt;&lt;XOrigin&gt;-5473200&lt;/XOrigin&gt;&lt;YOrigin&gt;-10002100&lt;/YOrigin&gt;&lt;XYScale&gt;450265407.00157917&lt;/XYScale&gt;&lt;ZOrigin&gt;-100000&lt;/ZOrigin&gt;&lt;ZScale&gt;10000&lt;/ZScale&gt;&lt;MOrigin&gt;-100000&lt;/MOrigin&gt;&lt;MScale&gt;10000&lt;/MScale&gt;&lt;XYTolerance&gt;0.001&lt;/XYTolerance&gt;&lt;ZTolerance&gt;0.001&lt;/ZTolerance&gt;&lt;MTolerance&gt;0.001&lt;/MTolerance&gt;&lt;HighPrecision&gt;true&lt;/HighPrecision&gt;&lt;WKID&gt;3008&lt;/WKID&gt;&lt;LatestWKID&gt;3008&lt;/LatestWKID&gt;&lt;/ProjectedCoordinateSystem&gt;</peXml>
</coordRef>
</DataProperties>
<SyncDate>20220323</SyncDate>
<SyncTime>16084500</SyncTime>
<ModDate>20231212</ModDate>
<ModTime>10090300</ModTime>
<scaleRange>
<minScale>150000000</minScale>
<maxScale>5000</maxScale>
</scaleRange>
<ArcGISProfile>ItemDescription</ArcGISProfile>
</Esri>
<dataIdInfo>
<envirDesc Sync="TRUE"> Version 6.2 (Build 9200) ; Esri ArcGIS 10.7.1.11595</envirDesc>
<dataLang>
<languageCode Sync="TRUE" value="swe"/>
<countryCode Sync="TRUE" value="SWE"/>
</dataLang>
<idCitation>
<resTitle Sync="TRUE">orto_2018</resTitle>
<presForm>
<PresFormCd Sync="TRUE" value="011"/>
</presForm>
</idCitation>
<spatRpType>
<SpatRepTypCd Sync="TRUE" value="002"/>
</spatRpType>
<dataExt>
<geoEle>
<GeoBndBox esriExtentType="search">
<exTypeCode Sync="TRUE">1</exTypeCode>
<westBL Sync="TRUE">12.942418</westBL>
<eastBL Sync="TRUE">13.142780</eastBL>
<northBL Sync="TRUE">55.765392</northBL>
<southBL Sync="TRUE">55.629929</southBL>
</GeoBndBox>
</geoEle>
</dataExt>
<idPurp>Ortofoto 2018
0,25 x 0,25
Datafångst 2018-04-12</idPurp>
<idCredit>Lantmäteriet</idCredit>
<searchKeys>
<keyword>ortofoto</keyword>
</searchKeys>
<idAbs/>
<resConst>
<Consts>
<useLimit/>
</Consts>
</resConst>
</dataIdInfo>
<mdLang>
<languageCode Sync="TRUE" value="swe"/>
<countryCode Sync="TRUE" value="SWE"/>
</mdLang>
<distInfo>
<distFormat>
<formatName Sync="TRUE">SDE-rasterdataset</formatName>
</distFormat>
</distInfo>
<mdHrLv>
<ScopeCd Sync="TRUE" value="005"/>
</mdHrLv>
<mdHrLvName Sync="TRUE">dataset</mdHrLvName>
<refSysInfo>
<RefSystem>
<refSysID>
<identCode Sync="TRUE" code="3008"/>
<idCodeSpace Sync="TRUE">EPSG</idCodeSpace>
<idVersion Sync="TRUE">7.4.4(9.0.0)</idVersion>
</refSysID>
</RefSystem>
</refSysInfo>
<spdoinfo>
<rastinfo>
<rasttype Sync="TRUE">Pixel</rasttype>
<rowcount Sync="TRUE">60000</rowcount>
<colcount Sync="TRUE">50000</colcount>
<rastxsz Sync="TRUE">0,250000</rastxsz>
<rastysz Sync="TRUE">0,250000</rastysz>
<rastbpp Sync="TRUE">8</rastbpp>
<vrtcount Sync="TRUE">1</vrtcount>
<rastorig Sync="TRUE">Upper Left</rastorig>
<rastcmap Sync="TRUE">FALSE</rastcmap>
<rastcomp Sync="TRUE">LZ77</rastcomp>
<rastband Sync="TRUE">3</rastband>
<rastdtyp Sync="TRUE">pixel codes</rastdtyp>
<rastifor Sync="TRUE">SDR</rastifor>
<rastplyr Sync="TRUE">TRUE</rastplyr>
</rastinfo>
</spdoinfo>
<spref>
<horizsys>
<planar>
<planci>
<plance Sync="TRUE">row and column</plance>
<coordrep>
<absres Sync="TRUE">0,250000</absres>
<ordres Sync="TRUE">0,250000</ordres>
</coordrep>
</planci>
</planar>
</horizsys>
</spref>
<mdDateSt Sync="TRUE">20231212</mdDateSt>
</metadata>
