{
 "currentVersion": 11.3,
 "serviceDescription": "Ortofoto 2022",
 "name": "extern_kommunkarta/orto_2022",
 "description": "Ortofoto 2022",
 "extent": {
  "xmin": 115000.01229224168,
  "ymin": 6167499.925656911,
  "xmax": 127500.01230388321,
  "ymax": 6182499.925670881,
  "spatialReference": {
   "wkid": 3008,
   "latestWkid": 3008
  }
 },
 "initialExtent": {
  "xmin": 115000.01229224168,
  "ymin": 6167499.925656911,
  "xmax": 127500.01230388321,
  "ymax": 6182499.925670881,
  "spatialReference": {
   "wkid": 3008,
   "latestWkid": 3008
  }
 },
 "fullExtent": {
  "xmin": 115000.01229224168,
  "ymin": 6167499.925656911,
  "xmax": 127500.01230388321,
  "ymax": 6182499.925670881,
  "spatialReference": {
   "wkid": 3008,
   "latestWkid": 3008
  }
 },
 "sortableFields": "",
 "bandCount": 3,
 "pixelType": "U8",
 "minValues": [],
 "maxValues": [],
 "meanValues": [],
 "stdvValues": [],
 "hasMultidimensions": false,
 "pixelSizeX": 0.1600000001490116,
 "pixelSizeY": 0.1600000001490116,
 "meanPixelSize": 0.1600000001490116,
 "datasetFormat": "SDR",
 "uncompressedSize": 21972656250,
 "blockWidth": 128,
 "blockHeight": 128,
 "compressionType": "LZ77",
 "bandNames": [
  "Band_1",
  "Band_2",
  "Band_3"
 ],
 "allowCopy": true,
 "allowAnalysis": true,
 "itemAccess": false,
 "inspectionCapabilities": "",
 "minPixelSize": 0,
 "maxPixelSize": 0,
 "copyrightText": "Lantmäteriet",
 "serviceDataType": "esriImageServiceDataTypeRGB",
 "serviceSourceType": "esriImageServiceSourceTypeDataset",
 "objectIdField": "",
 "fields": [],
 "capabilities": "Image,Metadata,Mensuration",
 "defaultMosaicMethod": "Center",
 "allowedMosaicMethods": "",
 "sortField": "",
 "sortValue": null,
 "sortAscending": true,
 "mosaicOperator": "First",
 "defaultCompressionQuality": 75,
 "defaultResamplingMethod": "Bilinear",
 "maxImageHeight": 4100,
 "maxImageWidth": 15000,
 "allowRasterFunction": true,
 "rasterFunctionInfos": [
  {
   "name": "None",
   "description": "",
   "help": ""
  }
 ],
 "rasterTypeInfos": [
  {
   "name": "Raster Dataset",
   "description": "Supports all ArcGIS Raster Datasets",
   "help": ""
  }
 ],
 "mensurationCapabilities": "Basic",
 "hasHistograms": false,
 "hasColormap": false,
 "hasRasterAttributeTable": false,
 "minScale": 0,
 "maxScale": 0,
 "exportTilesAllowed": false,
 "supportsStatistics": false,
 "supportsAdvancedQueries": false,
 "editFieldsInfo": null,
 "ownershipBasedAccessControlForRasters": null,
 "allowComputeTiePoints": false,
 "useStandardizedQueries": true,
 "advancedQueryCapabilities": {
  "useStandardizedQueries": true,
  "supportsStatistics": false,
  "supportsOrderBy": false,
  "supportsDistinct": false,
  "supportsPagination": false
 },
 "spatialReference": {
  "wkid": 3008,
  "latestWkid": 3008
 }
}
